BEGIN:VCALENDAR
VERSION:2.0
PRODID:-//IMAGH - ECPv6.0.9//NONSGML v1.0//EN
CALSCALE:GREGORIAN
METHOD:PUBLISH
X-ORIGINAL-URL:https://imagh.org
X-WR-CALDESC:Events for IMAGH
REFRESH-INTERVAL;VALUE=DURATION:PT1H
X-Robots-Tag:noindex
X-PUBLISHED-TTL:PT1H
BEGIN:VTIMEZONE
TZID:UTC
BEGIN:STANDARD
TZOFFSETFROM:+0000
TZOFFSETTO:+0000
TZNAME:UTC
DTSTART:20240101T000000
END:STANDARD
END:VTIMEZONE
BEGIN:VEVENT
DTSTART;TZID=UTC:20241103T110000
DTEND;TZID=UTC:20241103T160000
DTSTAMP:20260422T231606
CREATED:20241022T155832Z
LAST-MODIFIED:20241022T155832Z
UID:4768-1730631600-1730649600@imagh.org
SUMMARY:IMAGH Annual Picnic 2024
DESCRIPTION:Join us for a fun-filled day at the IMAGH Picnic! Get ready to enjoy delicious food\, exciting games\, and great company. We can’t wait to see you at 7410 W FM 1462\, Rosharon\, TX\, 77583. It’s going to be a blast! \nEvent Gallery\n                                                                                                                                                                                                                               WhatsApp-Image-2024-11-03-at-15.29.55                                                                                                                                                                                                              WhatsApp-Image-2024-11-03-at-15.29.56                                                                                                                                                                                                              WhatsApp-Image-2024-11-03-at-19.17.45                                                                                                                                                                                                              WhatsApp-Image-2024-11-03-at-18.33.06                                                                                                                                                                                                              WhatsApp-Image-2024-11-03-at-19.17.45-1                                                                                                                                                                                                              WhatsApp-Image-2024-11-03-at-15.29.13-1                                                                                                                                                                                                              WhatsApp-Image-2024-11-03-at-15.29.12-1                                                                                                                                                                                                              WhatsApp-Image-2024-11-03-at-15.29.11-2                                                                                                                                                                                                              WhatsApp-Image-2024-11-03-at-15.29.12                                                                                                                                                                                                              WhatsApp-Image-2024-11-03-at-15.29.13                                                                                                                                                                                                              WhatsApp-Image-2024-11-03-at-15.29.11-1                                                                                                                                                                                                              WhatsApp-Image-2024-11-03-at-15.29.11                                                                                                                                                                                                              WhatsApp-Image-2024-11-03-at-15.29.10                                                                                                                                                                                                              IMG 6602 (1)                                                                                                                                                                                                              IMG 6601 (1)                                                                                                                                                                                                              IMG 6600 (1)                                                                                                                                                                                                              IMG 6598 (1) (1)                                                                                                                                                                                                              IMG 6596 (1) (1)                                                                                                                                                                                                              IMG 6597 (1) (1)                                                                                                                                                                                                              IMG 6593 (1)                                                                                                                                                                                                              IMG 6590 (1)                                                                                                                                                                                                              IMG 6589 (1)                                                                                                                                                                                                              IMG 6587 (1)                                                                                                                                                                                                              IMG 6585 (1)                                                                                                                                                                                                              IMG 6580 (1)                                                                                                                                                                                                              IMG 6578 (1)                                                                                                                                                                                                              IMG 6577 (1)                                                                                                                                                                                                              IMG 6607                                                                                                                                                                                                              IMG 6591                                                                                                                                                                                                              IMG 6575                                                                                                                                                                                                                                                                    \n\n\n\n\n\n\n\n\n\n\n\n\n\n\n\n\n  \nTickets \nAdults: $15 per person\nKids ages 12 & under: FREE \nLimited Tickets! First Come First Serve.\nBUY YOUR TICKETS NOW! \nYou can either buy your tickets online by clicking below or you can also Zelle your payment at info@imagh.org. Please make sure to mention the names of all individuals in the memo when you Zelle your payment.
URL:https://imagh.org/event/imagh-annual-picnic-2024/
LOCATION:7410 W FM 1462\, Rosharon\, TX\, 77583\, 7410 W FM 1462\, Rosharon\, TX\, 77583\, United States
CATEGORIES:Event
ATTACH;FMTTYPE=image/png:https://imagh.org/wp-content/uploads/2024/10/IMAGH-Picnic-2024.png
END:VEVENT
END:VCALENDAR