BEGIN:VCALENDAR
VERSION:2.0
PRODID:-//IMAGH - ECPv6.0.9//NONSGML v1.0//EN
CALSCALE:GREGORIAN
METHOD:PUBLISH
X-ORIGINAL-URL:https://imagh.org
X-WR-CALDESC:Events for IMAGH
REFRESH-INTERVAL;VALUE=DURATION:PT1H
X-Robots-Tag:noindex
X-PUBLISHED-TTL:PT1H
BEGIN:VTIMEZONE
TZID:UTC
BEGIN:STANDARD
TZOFFSETFROM:+0000
TZOFFSETTO:+0000
TZNAME:UTC
DTSTART:20250101T000000
END:STANDARD
TZID:America/Chicago
BEGIN:DAYLIGHT
TZOFFSETFROM:-0600
TZOFFSETTO:-0500
TZNAME:CDT
DTSTART:20260308T080000
END:DAYLIGHT
BEGIN:STANDARD
TZOFFSETFROM:-0500
TZOFFSETTO:-0600
TZNAME:CST
DTSTART:20261101T070000
END:STANDARD
END:VTIMEZONE
BEGIN:VEVENT
DTSTART;TZID=UTC:20250412T170000
DTEND;TZID=UTC:20250412T210000
DTSTAMP:20260422T215024
CREATED:20250227T235706Z
LAST-MODIFIED:20250531T210136Z
UID:4778-1744477200-1744491600@imagh.org
SUMMARY:IMAGH Eid Milan Gala 2025
DESCRIPTION:The IMAGH Eid Milan Gala 2025 is a grand celebration of unity\, culture\, and festivity\, bringing together the diverse South Asian and Greater Houston communities. Hosted by the Indian Muslim Association of Greater Houston (IMAGH)\, this annual event marks the joyous occasion of Eid with an evening of elegant dining\, captivating entertainment\, and heartfelt camaraderie. \nGuests will enjoy inspiring keynote speeches\, cultural performances\, and networking opportunities with community leaders and distinguished guests. The gala highlights IMAGH’s mission of fostering inclusivity\, service\, and social harmony while celebrating the rich traditions of Eid. \nJoin us for an unforgettable evening of joy\, reflection\, and community spirit! \n                                                                                                                                                                                                                               DSC00743                                                                                                                                                                                                              DSC09815                                                                                                                                                                                                              DSC09805                                                                                                                                                                                                              DSC09777                                                                                                                                                                                                              DSC09743                                                                                                                                                                                                              DSC09700                                                                                                                                                                                                              DSC09676                                                                                                                                                                                                              DSC09639                                                                                                                                                                                                              DSC09572                                                                                                                                                                                                              DSC09559                                                                                                                                                                                                              DSC09498                                                                                                                                                                                                              DSC09731                                                                                                                                                                                                              DSC09646                                                                                                                                                                                                              DSC09641                                                                                                                                                                                                              DSC09616                                                                                                                                                                                                              DSC09518                                                                                                                                                                                                              DSC09321                                                                                                                                                                                                              DSC09260                                                                                                                                                                                                              DSC00630                                                                                                                                                                                                              DSC00672                                                                                                                                                                                                              DSC00390                                                                                                                                                                                                              DSC00306                                                                                                                                                                                                              DSC00257                                                                                                                                                                                                              DSC00626                                                                                                                                                                                                              DSC00242                                                                                                                                                                                                              DSC00398                                                                                                                                                                                                              DSC00328                                                                                                                                                                                                              DSC00352                                                                                                                                                                                                              DSC00522                                                                                                                                                                                                              DSC00331                                                                                                                                                                                    «              ‹              																										of																					3																	                              ›                »
URL:https://imagh.org/event/imagh-eid-milan-gala-2025/
LOCATION:Marriott WestChase\, 2900 Briar Park\, Houston\, TX\, 77042\, United States
ATTACH;FMTTYPE=image/png:https://imagh.org/wp-content/uploads/2025/02/IMAGH-Eid-Milan-2025-5.png
END:VEVENT
BEGIN:VEVENT
DTSTART;TZID=UTC:20250622T170000
DTEND;TZID=UTC:20250622T210000
DTSTAMP:20260422T215024
CREATED:20250530T210041Z
LAST-MODIFIED:20250530T210041Z
UID:4844-1750611600-1750626000@imagh.org
SUMMARY:Eid-Al-Adha Celebration
DESCRIPTION:Get ready for a joy-packed evening of family fun\, world-class entertainment\, and mouthwatering food as we come together to celebrate Eid Al Adha in style! From a festive feast bursting with rich\, traditional flavors to exciting raffles\, a Best Dressed competition\, and plenty of surprises — there’s something for everyone! \nBring your loved ones\, reconnect with friends\, and make new memories as laughter\, music\, and community spirit fill the air. Don’t miss this unforgettable celebration — it’s going to be a night to remember! \nUse below QR Code to Zelle payment. Please include names of all attendees in the memo.
URL:https://imagh.org/event/eid-al-adha-celebration-2/
LOCATION:Elite Indo-Pak Restaurant\, 11941 S Texas 6\, Sugar Land\, TX\, 77498\, United States
ATTACH;FMTTYPE=image/png:https://imagh.org/wp-content/uploads/2025/05/Eid-Al-Adha-IMAGH-2025-1.png
END:VEVENT
BEGIN:VEVENT
DTSTART;TZID=America/Chicago:20260411T170000
DTEND;TZID=America/Chicago:20260411T200000
DTSTAMP:20260422T215024
CREATED:20260217T023354Z
LAST-MODIFIED:20260221T033545Z
UID:4908-1775926800-1775937600@imagh.org
SUMMARY:Eid Milan Gala - 2026
DESCRIPTION:
URL:https://imagh.org/event/eid-milan-gala-2026/
CATEGORIES:Event,IMAGH - Eid Milan
ATTACH;FMTTYPE=image/png:https://imagh.org/wp-content/uploads/2026/02/1.png
END:VEVENT
END:VCALENDAR