BEGIN:VCALENDAR
VERSION:2.0
PRODID:-//IMAGH - ECPv6.0.9//NONSGML v1.0//EN
CALSCALE:GREGORIAN
METHOD:PUBLISH
X-ORIGINAL-URL:https://imagh.org
X-WR-CALDESC:Events for IMAGH
REFRESH-INTERVAL;VALUE=DURATION:PT1H
X-Robots-Tag:noindex
X-PUBLISHED-TTL:PT1H
BEGIN:VTIMEZONE
TZID:UTC
BEGIN:STANDARD
TZOFFSETFROM:+0000
TZOFFSETTO:+0000
TZNAME:UTC
DTSTART:20230101T000000
END:STANDARD
END:VTIMEZONE
BEGIN:VEVENT
DTSTART;TZID=UTC:20230513T170000
DTEND;TZID=UTC:20230513T220000
DTSTAMP:20260424T082134
CREATED:20230622T185749Z
LAST-MODIFIED:20230728T220137Z
UID:4028-1683997200-1684015200@imagh.org
SUMMARY:Eid Milan 2023
DESCRIPTION:The Eid Milan Gala 2023 hosted by the Indian Muslim Association of Greater Houston (IMAGH) promises to be a night of joy\, celebration\, and unity. After a hiatus of three years due to the challenges posed by the COVID-19 pandemic\, this eagerly awaited event is set to be a grand affair\, bringing together people from diverse backgrounds to commemorate Eid and foster connections. \nThe highlight of the Eid Milan Gala 2023 will undoubtedly be the opportunity to meet and greet new people from different walks of life. As the pandemic restrictions have eased\, the event will provide a much-needed chance for attendees to socialize\, exchange stories\, and strengthen community bonds. \nIMAGH’s dedication to promoting multiculturalism and inclusivity will be at the forefront of this gathering. The event aims to create an environment of harmony\, understanding\, and mutual respect\, fostering a sense of unity among attendees. \nAs the night unfolds\, the Eid Milan Gala 2023 will create lasting memories for all those present. It is not merely an event but a symbol of hope\, resilience\, and togetherness after enduring challenging times. From the exciting entertainment to the delicious food and the opportunity to connect with new friends\, this gala promises to be an evening to cherish for years to come. \n  \nEvent Gallery\n                                                                                                                                                                                                                               IMAGH-Eid-Milan-0143                                                                                                                                                                                                              IMAGH-Eid-Milan-0537                                                                                                                                                                                                              IMAGH-Eid-Milan-0590                                                                                                                                                                                                              IMAGH-Eid-Milan-0368                                                                                                                                                                                                              IMAGH-Eid-Milan-0594                                                                                                                                                                                                              IMAGH-Eid-Milan-9903                                                                                                                                                                                                              IMAGH-Eid-Milan-0078                                                                                                                                                                                                              IMAGH-Eid-Milan-0008                                                                                                                                                                                                              IMAGH-Eid-Milan-0102                                                                                                                                                                                                              IMAGH-Eid-Milan-0204                                                                                                                                                                                                              IMAGH-Eid-Milan-0081                                                                                                                                                                                                              IMAGH-Eid-Milan-0227                                                                                                                                                                                                              IMAGH-Eid-Milan-0016                                                                                                                                                                                                              IMAGH-Eid-Milan-0491                                                                                                                                                                                                              IMAGH-Eid-Milan-9902                                                                                                                                                                                                              IMAGH-Eid-Milan-0708                                                                                                                                                                                                              IMAGH-Eid-Milan-9962                                                                                                                                                                                                              IMAGH-Eid-Milan-9823                                                                                                                                                                                                              IMAGH-Eid-Milan-7209979                                                                                                                                                                                                              IMAGH-Eid-Milan-9911                                                                                                                                                                                                              IMAGH-Eid-Milan-7209981                                                                                                                                                                                                              IMAGH-Eid-Milan-0049                                                                                                                                                                                                              IMAGH-Eid-Milan-0057                                                                                                                                                                                                              IMAGH-Eid-Milan-0112 (1)                                                                                                                                                                                                              IMAGH-Eid-Milan-0184 (1)                                                                                                                                                                                                              IMAGH-Eid-Milan-0131                                                                                                                                                                                                              IMAGH-Eid-Milan-0263                                                                                                                                                                                                              IMAGH-Eid-Milan-0398 (1)                                                                                                                                                                                                              IMAGH-Eid-Milan-0317                                                                                                                                                                                                              IMAGH-Eid-Milan-0239                                                                                                                                                                                    «              ‹              																										of																					2																	                              ›                »              												                                                                                                                        \n 
URL:https://imagh.org/event/eid-milan-2023/
LOCATION:Marriott WestChase\, 2900 Briar Park\, Houston\, TX\, 77042\, United States
CATEGORIES:IMAGH - Eid Milan
ATTACH;FMTTYPE=image/png:https://imagh.org/wp-content/uploads/2023/04/Screenshot-2023-04-17-at-12.07.31-PM-e1687460256440.png
ORGANIZER;CN="IMAGH":MAILTO:info@imagh.org
END:VEVENT
END:VCALENDAR