BEGIN:VCALENDAR
VERSION:2.0
PRODID:-//IMAGH - ECPv6.0.9//NONSGML v1.0//EN
CALSCALE:GREGORIAN
METHOD:PUBLISH
X-ORIGINAL-URL:https://imagh.org
X-WR-CALDESC:Events for IMAGH
REFRESH-INTERVAL;VALUE=DURATION:PT1H
X-Robots-Tag:noindex
X-PUBLISHED-TTL:PT1H
BEGIN:VTIMEZONE
TZID:UTC
BEGIN:STANDARD
TZOFFSETFROM:+0000
TZOFFSETTO:+0000
TZNAME:UTC
DTSTART:20240101T000000
END:STANDARD
END:VTIMEZONE
BEGIN:VEVENT
DTSTART;TZID=UTC:20240420T170000
DTEND;TZID=UTC:20240420T220000
DTSTAMP:20260423T122425
CREATED:20240125T005153Z
LAST-MODIFIED:20240312T193246Z
UID:4657-1713632400-1713650400@imagh.org
SUMMARY:Eid Milan Gala 2024
DESCRIPTION:The Eid Milan Gala 2024\, presented by the Indian Muslim Association of Greater Houston\, is set to be an unforgettable evening where guests will relish the chance to meet and interact with a diverse group of individuals. Building on the grand success of last year’s gala\, this event comes at a time when social gatherings have become more precious than ever\, offering attendees a splendid opportunity to socialize\, share stories\, and forge stronger community ties. \nThe gala stands as a testament to IMAGH’s commitment to fostering multiculturalism and inclusivity\, aiming to cultivate an atmosphere of harmony\, understanding\, and mutual respect. This initiative underscores the organization’s effort to bring people together\, celebrating the rich Islamic heritage of India while embracing the diversity within our community. \nAs the evening progresses\, the Eid Milan Gala 2024 is poised to create memorable moments that will be cherished for years to come. It symbolizes not just a gathering but a beacon of hope\, resilience\, and unity. With a lineup of exciting entertainment\, delightful cuisine\, and the invaluable opportunity to make new friends\, this gala is more than an event—it’s a celebration of collective spirit and togetherness\, promising an enriching experience for all.
URL:https://imagh.org/event/eid-milan-gala-2024/
LOCATION:Omni Houston\, 4 Riverway\, Houston\, 77056\, United States
CATEGORIES:Event,IMAGH - Eid Milan
ATTACH;FMTTYPE=image/png:https://imagh.org/wp-content/uploads/2024/01/Gold-Modern-Eid-Mubarak-Mobile-Video-e1712260136254.png
ORGANIZER;CN="IMAGH":MAILTO:info@imagh.org
END:VEVENT
END:VCALENDAR